BEGIN:VCALENDAR
VERSION:2.0
PRODID:-//Eine Reise in die Nachhaltigkeit - ECPv6.2.8.1//NONSGML v1.0//EN
CALSCALE:GREGORIAN
METHOD:PUBLISH
X-WR-CALNAME:Eine Reise in die Nachhaltigkeit
X-ORIGINAL-URL:https://reisebuchnachhaltigkeit.de
X-WR-CALDESC:Veranstaltungen für Eine Reise in die Nachhaltigkeit
REFRESH-INTERVAL;VALUE=DURATION:PT1H
X-Robots-Tag:noindex
X-PUBLISHED-TTL:PT1H
BEGIN:VTIMEZONE
TZID:Europe/Helsinki
BEGIN:DAYLIGHT
TZOFFSETFROM:+0200
TZOFFSETTO:+0300
TZNAME:EEST
DTSTART:20230326T010000
END:DAYLIGHT
BEGIN:STANDARD
TZOFFSETFROM:+0300
TZOFFSETTO:+0200
TZNAME:EET
DTSTART:20231029T010000
END:STANDARD
TZID:UTC
BEGIN:STANDARD
TZOFFSETFROM:+0000
TZOFFSETTO:+0000
TZNAME:UTC
DTSTART:20230101T000000
END:STANDARD
END:VTIMEZONE
BEGIN:VEVENT
DTSTART;TZID=Europe/Helsinki:20230601T183000
DTEND;TZID=Europe/Helsinki:20230601T200000
DTSTAMP:20260420T124014
CREATED:20230530T082211Z
LAST-MODIFIED:20230530T082632Z
UID:19887-1685644200-1685649600@reisebuchnachhaltigkeit.de
SUMMARY:„Scientics“? Wenn Wissenschaft auf Politik trifft
DESCRIPTION:Wie können Politiker*innen von Forscher*innen-Wissen profitieren? Das wird bei der “Scientics” Veranstalltung diskutiert. \nWeitere Infos dazu findet ihr hier!  \nTickets findet ihr hier.
URL:https://reisebuchnachhaltigkeit.de/event/scientics-wenn-wissenschaft-auf-politik-trifft/
LOCATION:Futurium\, Alexanderufer 2\, 10117 Berlin
END:VEVENT
BEGIN:VEVENT
DTSTART;TZID=Europe/Helsinki:20230531T170000
DTEND;TZID=Europe/Helsinki:20230531T194500
DTSTAMP:20260420T124014
CREATED:20230530T084006Z
LAST-MODIFIED:20230530T084006Z
UID:19894-1685552400-1685562300@reisebuchnachhaltigkeit.de
SUMMARY:Nachhaltigkeitsdialog 2023 (Wissenschaft für Politik/ Gespräche mit E.v.Hirschhausen)
DESCRIPTION:Mittwoch\, 31. Mai 2023\, 17:00 Uhr bis 19:45 Uhr\nLeopoldina-Festsaal\, Jägerberg 1\, 06108 Halle (Saale) \n(Rahmen: Preis f. WISSENSCHAFTSKOMMUNIKATION des Freunde der Akademie der Wissenschaft)
URL:https://reisebuchnachhaltigkeit.de/event/nachhaltigkeitsdialog-2023-wissenschaft-fuer-politik-gespraeche-mit-e-v-hirschhausen/
LOCATION:Jägerberg 1\, 06108 Halle (Saale)\, Jägerberg 1\, 06108 Halle (Saale)\, 06108\, Deutschland
END:VEVENT
BEGIN:VEVENT
DTSTART;TZID=Europe/Helsinki:20230531T170000
DTEND;TZID=Europe/Helsinki:20230531T194500
DTSTAMP:20260420T124014
CREATED:20230530T081734Z
LAST-MODIFIED:20230530T081812Z
UID:19883-1685552400-1685562300@reisebuchnachhaltigkeit.de
SUMMARY:Comedies for Future-Event
DESCRIPTION:Seit seiner Gründung im Dezember 2019 engagiert sich Comedy for Future e.V. für die 17 Ziele für nachhaltige Entwicklung gemäß Agenda 2030 der Vereinten Nationen. Der gemeinnützige Verein will die allgemeine Bekanntheit der 17 Ziele erhöhen und außerdem zu deren Umsetzung beitragen. Deshalb initiiert er nicht nur eigene Unterhaltungsprojekte\, sondern fördert und unterstützt auch andere Initiativen und Organisationen\, die im Sinne der Agenda 2030 agieren. 
URL:https://reisebuchnachhaltigkeit.de/event/comedies-for-future-event/
LOCATION:Leopoldina-Festsaal\, Jägerberg 1\, 06108 Halle (Saale)
END:VEVENT
BEGIN:VEVENT
DTSTART;TZID=Europe/Helsinki:20230523T180000
DTEND;TZID=Europe/Helsinki:20230523T190000
DTSTAMP:20260420T124014
CREATED:20230416T114612Z
LAST-MODIFIED:20230416T114838Z
UID:19719-1684864800-1684868400@reisebuchnachhaltigkeit.de
SUMMARY:Buchvorstellung in Hamburg
DESCRIPTION:Martin Häusler stellt das von Eckart von Hirschhausen herausgegebene Buch: ALS ICH MICH AUFMACHTE\, DIE ERDE ZU RETTEN (SCORPIO VERLAG) im Mai in Hamburg vor.
URL:https://reisebuchnachhaltigkeit.de/event/buchvorstellung-in-hamburg/
LOCATION:The New Institute – neue Buchhandlungs-Filiale der Buchhandlung Felix Jud\, Warburgstr. 8\, Hamburg\, 20354\, Deutschland
CATEGORIES:Buchvorstellung
END:VEVENT
BEGIN:VEVENT
DTSTART;TZID=Europe/Helsinki:20230515T190000
DTEND;TZID=Europe/Helsinki:20230515T230000
DTSTAMP:20260420T124014
CREATED:20230417T180924Z
LAST-MODIFIED:20230424T072616Z
UID:19795-1684177200-1684191600@reisebuchnachhaltigkeit.de
SUMMARY:Limited Green-Dining & „EINE REISE IN DIE NACHHALTIGKEIT”  geschlossene Veranstaltung
DESCRIPTION:Am 15. Mai 2023 findet ein außergewöhnlichen Green-Dining Abend statt! Ein Event im Zeichen der Nachhaltigkeit – initiiert von der Stiftung „Gesunde Erde – Gesunde Menschen“ gemeinsam mit den Ermöglichern Sebastian Schels\, Theresa Klingenhage\, Sevi und Sascha Wilhelm und Tom Zeller sowie den Initiatoren des TOR Art Space Anne Nowitzki und Ulf Appel. \nNur für geladene Gäste. \nIhr Reisebegleiter\nAls Special Guest erwarten wir Dr. Eckart von Hirschhausen\, der sich als prominenter Gründer der Stiftung „Gesunde Erde – Gesunde Menschen“ für das Thema Nachhaltigkeit engagiert. An diesem Abend hat er für uns alle etwas Besonderes im Gepäck: Ein „Buch über das größte Abenteuer unserer Zeit“\, wie er es nennt. Stay curious!
URL:https://reisebuchnachhaltigkeit.de/event/limited-green-dining-eine-reise-in-die-nachhaltigkeit/
END:VEVENT
BEGIN:VEVENT
DTSTART;TZID=Europe/Helsinki:20230427T190000
DTEND;TZID=Europe/Helsinki:20230427T204500
DTSTAMP:20260420T124014
CREATED:20230413T103402Z
LAST-MODIFIED:20230424T114358Z
UID:19584-1682622000-1682628300@reisebuchnachhaltigkeit.de
SUMMARY:Eckart von Hirschhausen -  Leipziger Buchmesse 2023
DESCRIPTION:Eckart von Hirschhausen engagiert sich für den Klimaschutz – und spricht darüber auch bei der Leipziger Buchmesse 2023: \nEckart von Hirschhausen kann einige Berufsbezeichnungen vorweisen: Er ist Arzt\, Moderator\, Kabarettist\, Produzent\, Schriftsteller und Comedian. Viele Jahre tourte er als medizinischer Kabarettist von Bühne zu Bühne – doch damit hörte er Ende des letzten Jahres auf. Seine Begründung: Der Klimaschutz könne nicht mehr warten. \nDa passt es\, dass von Hirschhausen in Leipzig auch die Klimabuchmesse im Werk 2 eröffnet und dass er ein Buch vorstellt\, das beweisen will\, wie aufregend schön Nachhaltigkeit sein kann: “Als ich mich auf den Weg machte\, die Erde zu retten” hat Martin Häusler geschrieben\, das Vor- und Nachwort stammt von Eckart von Hirschhausen. “Gesunde Menschen gibt es nur auf einer gesunden Erde. Deshalb unterstütze ich dieses Buchprojekt\, damit sich noch mehr Menschen aufmachen\, Teil der Lösung zu werden”\, sagt von Hirschhausen über das Buch.
URL:https://reisebuchnachhaltigkeit.de/event/eckart-von-hirschhausen-leipziger-buchmesse-2023/
LOCATION:Klima Buchmesse\, Kochstr. 132\, Halle A - Werk 2\, Deutschland
CATEGORIES:Buchmesse
END:VEVENT
BEGIN:VEVENT
DTSTART;TZID=Europe/Helsinki:20230427T153000
DTEND;TZID=Europe/Helsinki:20230427T160000
DTSTAMP:20260420T124014
CREATED:20230413T103547Z
LAST-MODIFIED:20230413T103633Z
UID:19588-1682609400-1682611200@reisebuchnachhaltigkeit.de
SUMMARY:Eckart von Hirschhausen - Leipziger Buchmesse 2023 (1)
DESCRIPTION:Eckart von Hirschhausen engagiert sich für den Klimaschutz – und spricht darüber auch bei der Leipziger Buchmesse 2023: \nEckart von Hirschhausen kann einige Berufsbezeichnungen vorweisen: Er ist Arzt\, Moderator\, Kabarettist\, Produzent\, Schriftsteller und Comedian. Viele Jahre tourte er als medizinischer Kabarettist von Bühne zu Bühne – doch damit hörte er Ende des letzten Jahres auf. Seine Begründung: Der Klimaschutz könne nicht mehr warten. \nDa passt es\, dass von Hirschhausen in Leipzig auch die Klimabuchmesse im Werk 2 eröffnet und dass er ein Buch vorstellt\, das beweisen will\, wie aufregend schön Nachhaltigkeit sein kann: “Als ich mich auf den Weg machte\, die Erde zu retten” hat Martin Häusler geschrieben\, das Vor- und Nachwort stammt von Eckart von Hirschhausen. “Gesunde Menschen gibt es nur auf einer gesunden Erde. Deshalb unterstütze ich dieses Buchprojekt\, damit sich noch mehr Menschen aufmachen\, Teil der Lösung zu werden”\, sagt von Hirschhausen über das Buch.
URL:https://reisebuchnachhaltigkeit.de/event/eckart-von-hirschhausen-leipziger-buchmesse-2023-1/
LOCATION:Leipziger Buchmesse\, Deutschland
CATEGORIES:Buchmesse
END:VEVENT
BEGIN:VEVENT
DTSTART;TZID=UTC:20230427T000000
DTEND;TZID=UTC:20230430T235900
DTSTAMP:20260420T124014
CREATED:20200504T160421Z
LAST-MODIFIED:20230416T120651Z
UID:1737-1682553600-1682899140@reisebuchnachhaltigkeit.de
SUMMARY:buchmesse ON AIR
DESCRIPTION:„buchmesse ON AIR “ ist ein ganz neues Format der Leipziger Buchmesse. „buchmesse ON AIR “ wird an 5 Tagen gestreamt. \nZu sehen ist der Stream auf der Website der Leipziger Buchmesse & auf dem YouTube-Kanal der Leipziger Messe.
URL:https://reisebuchnachhaltigkeit.de/event/modern-art-seminar-series/
CATEGORIES:Streaming
ATTACH;FMTTYPE=image/jpeg:https://reisebuchnachhaltigkeit.de/wp-content/uploads/2020/04/post31-copyright.jpg
END:VEVENT
BEGIN:VEVENT
DTSTART;TZID=Europe/Helsinki:20230423T160500
DTEND;TZID=Europe/Helsinki:20230423T163000
DTSTAMP:20260420T124014
CREATED:20230409T051054Z
LAST-MODIFIED:20230409T051054Z
UID:19413-1682265900-1682267400@reisebuchnachhaltigkeit.de
SUMMARY:Radio Bremen Interview
DESCRIPTION:Markus Foppe wirdMartin Häusler am Sonntag den 23. April\, Live um 16:05 Uhr auf Radio Bremen interviewen.
URL:https://reisebuchnachhaltigkeit.de/event/radio-bremen-interview/
LOCATION:Radio Bremen
CATEGORIES:Radio
END:VEVENT
END:VCALENDAR